BEGIN:VCALENDAR
VERSION:2.0
PRODID:icalendar-ruby
CALSCALE:GREGORIAN
METHOD:PUBLISH
BEGIN:VEVENT
DTSTAMP:20260420T061355Z
UID:76-297064@trinityavenue.tithelysetup5.com
DTSTART:20260507T210000Z
DTEND:20260507T230000Z
CLASS:PUBLIC
CREATED:20260416T124207
DESCRIPTION:5-7pm    LouElla Wine\, Beer\, &amp\; Beverage\, 316 W. Geer 
 St\, Durham    \nWomen of TAPC - please come enjoy the fellowship of ot
 her women at TAPC with a casual evening out for a glass of wine.  Join An
 na Jenkins and Jenni Albright for this evening of fun!  \nFor more info\
 , contact Anna Jenkins at annathurstonjenkins111@gmail.com or Jenni Albrig
 ht at jalbright@trinityave.org
LAST-MODIFIED:20260416T124207
LOCATION:
SUMMARY:TAPC Women's Wine Outing
URL;VALUE=URI:https://www.trinityave.org/events/tapc-womens-wine-outing--76
 /2026-05-07
ATTACH;FILENAME=HEADER-website-Womens-Wine-Outing-20260310-1.jpg;FMTTYPE=im
 age/jpeg:https://dq5pwpg1q8ru0.cloudfront.net/2026/04/16/16/42/07/c051cd7e
 -9201-4179-8876-e94e12fb92ce/HEADER-website-Womens-Wine-Outing-20260310-1.
 jpg
END:VEVENT
END:VCALENDAR
